BEGIN:VCALENDAR
VERSION:2.0
PRODID:-//TB Sinzheim Badminton - ECPv6.15.20//NONSGML v1.0//EN
CALSCALE:GREGORIAN
METHOD:PUBLISH
X-ORIGINAL-URL:https://sinzheim-badminton.de
X-WR-CALDESC:Veranstaltungen für TB Sinzheim Badminton
REFRESH-INTERVAL;VALUE=DURATION:PT1H
X-Robots-Tag:noindex
X-PUBLISHED-TTL:PT1H
BEGIN:VTIMEZONE
TZID:Europe/Berlin
BEGIN:DAYLIGHT
TZOFFSETFROM:+0100
TZOFFSETTO:+0200
TZNAME:CEST
DTSTART:20230326T010000
END:DAYLIGHT
BEGIN:STANDARD
TZOFFSETFROM:+0200
TZOFFSETTO:+0100
TZNAME:CET
DTSTART:20231029T010000
END:STANDARD
BEGIN:DAYLIGHT
TZOFFSETFROM:+0100
TZOFFSETTO:+0200
TZNAME:CEST
DTSTART:20240331T010000
END:DAYLIGHT
BEGIN:STANDARD
TZOFFSETFROM:+0200
TZOFFSETTO:+0100
TZNAME:CET
DTSTART:20241027T010000
END:STANDARD
BEGIN:DAYLIGHT
TZOFFSETFROM:+0100
TZOFFSETTO:+0200
TZNAME:CEST
DTSTART:20250330T010000
END:DAYLIGHT
BEGIN:STANDARD
TZOFFSETFROM:+0200
TZOFFSETTO:+0100
TZNAME:CET
DTSTART:20251026T010000
END:STANDARD
BEGIN:DAYLIGHT
TZOFFSETFROM:+0100
TZOFFSETTO:+0200
TZNAME:CEST
DTSTART:20260329T010000
END:DAYLIGHT
BEGIN:STANDARD
TZOFFSETFROM:+0200
TZOFFSETTO:+0100
TZNAME:CET
DTSTART:20261025T010000
END:STANDARD
END:VTIMEZONE
BEGIN:VEVENT
DTSTART;TZID=Europe/Berlin:20250405T150000
DTEND;TZID=Europe/Berlin:20250405T180000
DTSTAMP:20260420T102707
CREATED:20241004T111330Z
LAST-MODIFIED:20241004T111943Z
UID:638-1743865200-1743876000@sinzheim-badminton.de
SUMMARY:2. Mannschaft: Spieltag 8a
DESCRIPTION:Heimspiel gegen BSpfr. Neusatz 3 und TV Mörsch 1
URL:https://sinzheim-badminton.de/event/2-mannschaft-spieltag-8a/
LOCATION:Altenburghalle\, Müllhofener Straße 16\, Sinzheim\, Baden-Württemberg\, 76547\, Germany
CATEGORIES:2. Mannschaft,Spieltage
ORGANIZER;CN="Badminton Sinzheim":MAILTO:info@sinzheim-badminton.de
END:VEVENT
BEGIN:VEVENT
DTSTART;TZID=Europe/Berlin:20250322T150000
DTEND;TZID=Europe/Berlin:20250322T200000
DTSTAMP:20260420T102707
CREATED:20241004T111330Z
LAST-MODIFIED:20241004T111943Z
UID:637-1742655600-1742673600@sinzheim-badminton.de
SUMMARY:2. Mannschaft: Spieltag 8
DESCRIPTION:Auswärtsspiel gegen BSpfr. Neusatz 3 und TV Mörsch 1
URL:https://sinzheim-badminton.de/event/2-mannschaft-spieltag-8/
LOCATION:Auswärts
CATEGORIES:2. Mannschaft,Spieltage
ORGANIZER;CN="Badminton Sinzheim":MAILTO:info@sinzheim-badminton.de
END:VEVENT
BEGIN:VEVENT
DTSTART;TZID=Europe/Berlin:20250322T150000
DTEND;TZID=Europe/Berlin:20250322T200000
DTSTAMP:20260420T102707
CREATED:20241004T111320Z
LAST-MODIFIED:20241004T111932Z
UID:628-1742655600-1742673600@sinzheim-badminton.de
SUMMARY:1. Mannschaft: Spieltag 8
DESCRIPTION:Auswärtsspiel gegen SSC Karlsruhe 2 und PS Karlsruhe 1
URL:https://sinzheim-badminton.de/event/1-mannschaft-spieltag-8/
LOCATION:Auswärts
CATEGORIES:1. Mannschaft,Spieltage
ORGANIZER;CN="Badminton Sinzheim":MAILTO:info@sinzheim-badminton.de
END:VEVENT
BEGIN:VEVENT
DTSTART;TZID=Europe/Berlin:20250222T150000
DTEND;TZID=Europe/Berlin:20250222T200000
DTSTAMP:20260420T102707
CREATED:20241004T111329Z
LAST-MODIFIED:20241004T111943Z
UID:636-1740236400-1740254400@sinzheim-badminton.de
SUMMARY:2. Mannschaft: Spieltag 7
DESCRIPTION:Heimspiel gegen BV Rastatt 4 und SSC Karlsruhe 4
URL:https://sinzheim-badminton.de/event/2-mannschaft-spieltag-7/
LOCATION:Altenburghalle\, Müllhofener Straße 16\, Sinzheim\, Baden-Württemberg\, 76547\, Germany
CATEGORIES:2. Mannschaft,Spieltage
ORGANIZER;CN="Badminton Sinzheim":MAILTO:info@sinzheim-badminton.de
END:VEVENT
BEGIN:VEVENT
DTSTART;TZID=Europe/Berlin:20250222T150000
DTEND;TZID=Europe/Berlin:20250222T200000
DTSTAMP:20260420T102707
CREATED:20241004T111320Z
LAST-MODIFIED:20241004T111932Z
UID:627-1740236400-1740254400@sinzheim-badminton.de
SUMMARY:1. Mannschaft: Spieltag 7
DESCRIPTION:Heimspiel gegen BV Rastatt 3 und BSV Eggenstein-Leopoldshafen 3
URL:https://sinzheim-badminton.de/event/1-mannschaft-spieltag-7/
LOCATION:Altenburghalle\, Müllhofener Straße 16\, Sinzheim\, Baden-Württemberg\, 76547\, Germany
CATEGORIES:1. Mannschaft,Spieltage
ORGANIZER;CN="Badminton Sinzheim":MAILTO:info@sinzheim-badminton.de
END:VEVENT
BEGIN:VEVENT
DTSTART;TZID=Europe/Berlin:20250215T150000
DTEND;TZID=Europe/Berlin:20250215T200000
DTSTAMP:20260420T102707
CREATED:20241004T111325Z
LAST-MODIFIED:20241004T111938Z
UID:635-1739631600-1739649600@sinzheim-badminton.de
SUMMARY:2. Mannschaft: Spieltag 6
DESCRIPTION:Auswärtsspiel gegen SSV Ettlingen 4 und TV Busenbach 1
URL:https://sinzheim-badminton.de/event/2-mannschaft-spieltag-6/
LOCATION:Auswärts
CATEGORIES:2. Mannschaft,Spieltage
ORGANIZER;CN="Badminton Sinzheim":MAILTO:info@sinzheim-badminton.de
END:VEVENT
BEGIN:VEVENT
DTSTART;TZID=Europe/Berlin:20250215T150000
DTEND;TZID=Europe/Berlin:20250215T200000
DTSTAMP:20260420T102707
CREATED:20241004T111319Z
LAST-MODIFIED:20241004T111932Z
UID:626-1739631600-1739649600@sinzheim-badminton.de
SUMMARY:1. Mannschaft: Spieltag 6
DESCRIPTION:Auswärtsspiel gegen TV Helmsheim 1 und SSV Ettlingen 3
URL:https://sinzheim-badminton.de/event/1-mannschaft-spieltag-6/
LOCATION:Auswärts
CATEGORIES:1. Mannschaft,Spieltage
ORGANIZER;CN="Badminton Sinzheim":MAILTO:info@sinzheim-badminton.de
END:VEVENT
BEGIN:VEVENT
DTSTART;TZID=Europe/Berlin:20250125T150000
DTEND;TZID=Europe/Berlin:20250125T200000
DTSTAMP:20260420T102707
CREATED:20241004T111325Z
LAST-MODIFIED:20241004T111938Z
UID:634-1737817200-1737835200@sinzheim-badminton.de
SUMMARY:2. Mannschaft: Spieltag 5
DESCRIPTION:Auswärtsspiel gegen TV Mörsch 2 und TV Mörsch 3
URL:https://sinzheim-badminton.de/event/2-mannschaft-spieltag-5/
LOCATION:Auswärts
CATEGORIES:2. Mannschaft,Spieltage
ORGANIZER;CN="Badminton Sinzheim":MAILTO:info@sinzheim-badminton.de
END:VEVENT
BEGIN:VEVENT
DTSTART;TZID=Europe/Berlin:20250125T150000
DTEND;TZID=Europe/Berlin:20250125T180000
DTSTAMP:20260420T102707
CREATED:20241004T111318Z
LAST-MODIFIED:20241004T111930Z
UID:625-1737817200-1737828000@sinzheim-badminton.de
SUMMARY:1. Mannschaft: Spieltag 5
DESCRIPTION:Heimspiel gegen Tus Bietigheim 1
URL:https://sinzheim-badminton.de/event/1-mannschaft-spieltag-5/
LOCATION:Altenburghalle\, Müllhofener Straße 16\, Sinzheim\, Baden-Württemberg\, 76547\, Germany
CATEGORIES:1. Mannschaft,Spieltage
ORGANIZER;CN="Badminton Sinzheim":MAILTO:info@sinzheim-badminton.de
END:VEVENT
BEGIN:VEVENT
DTSTART;TZID=Europe/Berlin:20241214T150000
DTEND;TZID=Europe/Berlin:20241214T180000
DTSTAMP:20260420T102707
CREATED:20241004T111325Z
LAST-MODIFIED:20241004T111938Z
UID:633-1734188400-1734199200@sinzheim-badminton.de
SUMMARY:2. Mannschaft: Spieltag 4a
DESCRIPTION:Auswärtsspiel gegen TuS Bietigheim 2
URL:https://sinzheim-badminton.de/event/2-mannschaft-spieltag-4a/
LOCATION:Auswärts
CATEGORIES:2. Mannschaft,Spieltage
ORGANIZER;CN="Badminton Sinzheim":MAILTO:info@sinzheim-badminton.de
END:VEVENT
BEGIN:VEVENT
DTSTART;TZID=Europe/Berlin:20241208T120000
DTEND;TZID=Europe/Berlin:20241208T150000
DTSTAMP:20260420T102707
CREATED:20241006T204848Z
LAST-MODIFIED:20241026T092432Z
UID:673-1733659200-1733670000@sinzheim-badminton.de
SUMMARY:Angeleitetes Training: Erwachsene
DESCRIPTION:
URL:https://sinzheim-badminton.de/event/angeleitetes-training-erwachsene-2/
LOCATION:Altenburghalle\, Müllhofener Straße 16\, Sinzheim\, Baden-Württemberg\, 76547\, Germany
CATEGORIES:Zusatztraining
ORGANIZER;CN="Badminton Sinzheim":MAILTO:info@sinzheim-badminton.de
END:VEVENT
BEGIN:VEVENT
DTSTART;TZID=Europe/Berlin:20241208T100000
DTEND;TZID=Europe/Berlin:20241208T120000
DTSTAMP:20260420T102707
CREATED:20241006T204818Z
LAST-MODIFIED:20241026T092425Z
UID:670-1733652000-1733659200@sinzheim-badminton.de
SUMMARY:Angeleitetes Training: Jugend
DESCRIPTION:
URL:https://sinzheim-badminton.de/event/angeleitetes-training-jugend-2/
LOCATION:Altenburghalle\, Müllhofener Straße 16\, Sinzheim\, Baden-Württemberg\, 76547\, Germany
CATEGORIES:Zusatztraining
ORGANIZER;CN="Badminton Sinzheim":MAILTO:info@sinzheim-badminton.de
END:VEVENT
BEGIN:VEVENT
DTSTART;TZID=Europe/Berlin:20241123T150000
DTEND;TZID=Europe/Berlin:20241123T200000
DTSTAMP:20260420T102707
CREATED:20241004T111325Z
LAST-MODIFIED:20241004T111938Z
UID:632-1732374000-1732392000@sinzheim-badminton.de
SUMMARY:2. Mannschaft: Spieltag 4
DESCRIPTION:Heimspiel gegen TV Mörsch 1 und BSpfr. Neusatz 3
URL:https://sinzheim-badminton.de/event/2-mannschaft-spieltag-4/
LOCATION:Altenburghalle\, Müllhofener Straße 16\, Sinzheim\, Baden-Württemberg\, 76547\, Germany
CATEGORIES:2. Mannschaft,Spieltage
ORGANIZER;CN="Badminton Sinzheim":MAILTO:info@sinzheim-badminton.de
END:VEVENT
BEGIN:VEVENT
DTSTART;TZID=Europe/Berlin:20241123T150000
DTEND;TZID=Europe/Berlin:20241123T200000
DTSTAMP:20260420T102707
CREATED:20241004T111318Z
LAST-MODIFIED:20241004T111930Z
UID:624-1732374000-1732392000@sinzheim-badminton.de
SUMMARY:1. Mannschaft: Spieltag 4
DESCRIPTION:Heimspiel gegen PS Karlsruhe 1 und SSC Karlsruhe 2
URL:https://sinzheim-badminton.de/event/1-mannschaft-spieltag-4/
LOCATION:Altenburghalle\, Müllhofener Straße 16\, Sinzheim\, Baden-Württemberg\, 76547\, Germany
CATEGORIES:1. Mannschaft,Spieltage
ORGANIZER;CN="Badminton Sinzheim":MAILTO:info@sinzheim-badminton.de
END:VEVENT
BEGIN:VEVENT
DTSTART;TZID=Europe/Berlin:20241117T120000
DTEND;TZID=Europe/Berlin:20241117T150000
DTSTAMP:20260420T102707
CREATED:20241006T204914Z
LAST-MODIFIED:20241006T204914Z
UID:676-1731844800-1731855600@sinzheim-badminton.de
SUMMARY:Angeleitetes Training: Erwachsene
DESCRIPTION:
URL:https://sinzheim-badminton.de/event/angeleitetes-training-erwachsene-3/
LOCATION:Altenburghalle\, Müllhofener Straße 16\, Sinzheim\, Baden-Württemberg\, 76547\, Germany
CATEGORIES:Zusatztraining
ORGANIZER;CN="Badminton Sinzheim":MAILTO:info@sinzheim-badminton.de
END:VEVENT
BEGIN:VEVENT
DTSTART;TZID=Europe/Berlin:20241117T100000
DTEND;TZID=Europe/Berlin:20241117T120000
DTSTAMP:20260420T102707
CREATED:20241006T204945Z
LAST-MODIFIED:20241006T204945Z
UID:679-1731837600-1731844800@sinzheim-badminton.de
SUMMARY:Angeleitetes Training: Jugend
DESCRIPTION:
URL:https://sinzheim-badminton.de/event/angeleitetes-training-jugend-3/
LOCATION:Altenburghalle\, Müllhofener Straße 16\, Sinzheim\, Baden-Württemberg\, 76547\, Germany
CATEGORIES:Zusatztraining
ORGANIZER;CN="Badminton Sinzheim":MAILTO:info@sinzheim-badminton.de
END:VEVENT
BEGIN:VEVENT
DTSTART;TZID=Europe/Berlin:20241109T150000
DTEND;TZID=Europe/Berlin:20241109T200000
DTSTAMP:20260420T102707
CREATED:20241004T111325Z
LAST-MODIFIED:20241004T111938Z
UID:631-1731164400-1731182400@sinzheim-badminton.de
SUMMARY:2. Mannschaft: Spieltag 3
DESCRIPTION:Auswärtsspiel gegen SSC Karlsruhe 4 und BV Rastatt 4
URL:https://sinzheim-badminton.de/event/2-mannschaft-spieltag-3/
LOCATION:Auswärts
CATEGORIES:2. Mannschaft,Spieltage
ORGANIZER;CN="Badminton Sinzheim":MAILTO:info@sinzheim-badminton.de
END:VEVENT
BEGIN:VEVENT
DTSTART;TZID=Europe/Berlin:20241109T150000
DTEND;TZID=Europe/Berlin:20241109T200000
DTSTAMP:20260420T102707
CREATED:20241004T111317Z
LAST-MODIFIED:20241004T111930Z
UID:623-1731164400-1731182400@sinzheim-badminton.de
SUMMARY:1. Mannschaft: Spieltag 3
DESCRIPTION:Auswärtsspiel gegen BSV Eggenstein-Leopoldshafen 3 und BV Rastatt 3
URL:https://sinzheim-badminton.de/event/1-mannschaft-spieltag-3/
LOCATION:Auswärts
CATEGORIES:1. Mannschaft,Spieltage
ORGANIZER;CN="Badminton Sinzheim":MAILTO:info@sinzheim-badminton.de
END:VEVENT
BEGIN:VEVENT
DTSTART;TZID=Europe/Berlin:20241019T150000
DTEND;TZID=Europe/Berlin:20241019T200000
DTSTAMP:20260420T102707
CREATED:20241004T111320Z
LAST-MODIFIED:20241004T111932Z
UID:630-1729350000-1729368000@sinzheim-badminton.de
SUMMARY:2. Mannschaft: Spieltag 2
DESCRIPTION:Heimspiel gegen TV Busenbach 1 und SSV Ettlingen 4
URL:https://sinzheim-badminton.de/event/2-mannschaft-spieltag-2/
LOCATION:Altenburghalle\, Müllhofener Straße 16\, Sinzheim\, Baden-Württemberg\, 76547\, Germany
CATEGORIES:2. Mannschaft,Spieltage
ORGANIZER;CN="Badminton Sinzheim":MAILTO:info@sinzheim-badminton.de
END:VEVENT
BEGIN:VEVENT
DTSTART;TZID=Europe/Berlin:20241019T150000
DTEND;TZID=Europe/Berlin:20241019T200000
DTSTAMP:20260420T102707
CREATED:20241004T111317Z
LAST-MODIFIED:20241004T111930Z
UID:622-1729350000-1729368000@sinzheim-badminton.de
SUMMARY:1. Mannschaft: Spieltag 2
DESCRIPTION:Heimspiel gegen SSV Ettlingen 3 und TV Helmsheim 1
URL:https://sinzheim-badminton.de/event/1-mannschaft-spieltag-2/
LOCATION:Altenburghalle\, Müllhofener Straße 16\, Sinzheim\, Baden-Württemberg\, 76547\, Germany
CATEGORIES:1. Mannschaft,Spieltage
ORGANIZER;CN="Badminton Sinzheim":MAILTO:info@sinzheim-badminton.de
END:VEVENT
BEGIN:VEVENT
DTSTART;TZID=Europe/Berlin:20241005T150000
DTEND;TZID=Europe/Berlin:20241005T200000
DTSTAMP:20260420T102707
CREATED:20241004T111320Z
LAST-MODIFIED:20241004T111932Z
UID:629-1728140400-1728158400@sinzheim-badminton.de
SUMMARY:2. Mannschaft: Spieltag 1
DESCRIPTION:Heimspiel gegen TV Mörsch 3 und TV Mörsch 2
URL:https://sinzheim-badminton.de/event/2-mannschaft-spieltag-1/
LOCATION:Altenburghalle\, Müllhofener Straße 16\, Sinzheim\, Baden-Württemberg\, 76547\, Germany
CATEGORIES:2. Mannschaft,Spieltage
ORGANIZER;CN="Badminton Sinzheim":MAILTO:info@sinzheim-badminton.de
END:VEVENT
BEGIN:VEVENT
DTSTART;TZID=Europe/Berlin:20241005T150000
DTEND;TZID=Europe/Berlin:20241005T180000
DTSTAMP:20260420T102707
CREATED:20241004T111317Z
LAST-MODIFIED:20241004T111930Z
UID:621-1728140400-1728151200@sinzheim-badminton.de
SUMMARY:1. Mannschaft: Spieltag 1
DESCRIPTION:Auswärtsspiel gegen Tus Bietigheim 1
URL:https://sinzheim-badminton.de/event/1-mannschaft-spieltag-1/
LOCATION:Auswärts
CATEGORIES:1. Mannschaft,Spieltage
ORGANIZER;CN="Badminton Sinzheim":MAILTO:info@sinzheim-badminton.de
END:VEVENT
END:VCALENDAR